BEGIN:VCALENDAR
VERSION:2.0
PRODID:-//Central Delaware Habitat for Humanity - ECPv6.15.20//NONSGML v1.0//EN
CALSCALE:GREGORIAN
METHOD:PUBLISH
X-WR-CALNAME:Central Delaware Habitat for Humanity
X-ORIGINAL-URL:https://centraldelawarehabitat.org
X-WR-CALDESC:Events for Central Delaware Habitat for Humanity
REFRESH-INTERVAL;VALUE=DURATION:PT1H
X-Robots-Tag:noindex
X-PUBLISHED-TTL:PT1H
BEGIN:VTIMEZONE
TZID:America/New_York
BEGIN:DAYLIGHT
TZOFFSETFROM:-0500
TZOFFSETTO:-0400
TZNAME:EDT
DTSTART:20240310T070000
END:DAYLIGHT
BEGIN:STANDARD
TZOFFSETFROM:-0400
TZOFFSETTO:-0500
TZNAME:EST
DTSTART:20241103T060000
END:STANDARD
BEGIN:DAYLIGHT
TZOFFSETFROM:-0500
TZOFFSETTO:-0400
TZNAME:EDT
DTSTART:20250309T070000
END:DAYLIGHT
BEGIN:STANDARD
TZOFFSETFROM:-0400
TZOFFSETTO:-0500
TZNAME:EST
DTSTART:20251102T060000
END:STANDARD
BEGIN:DAYLIGHT
TZOFFSETFROM:-0500
TZOFFSETTO:-0400
TZNAME:EDT
DTSTART:20260308T070000
END:DAYLIGHT
BEGIN:STANDARD
TZOFFSETFROM:-0400
TZOFFSETTO:-0500
TZNAME:EST
DTSTART:20261101T060000
END:STANDARD
END:VTIMEZONE
BEGIN:VEVENT
DTSTART;TZID=America/New_York:20250521T173000
DTEND;TZID=America/New_York:20250521T190000
DTSTAMP:20260424T231412
CREATED:20250507T143014Z
LAST-MODIFIED:20250507T143038Z
UID:64875-1747848600-1747854000@centraldelawarehabitat.org
SUMMARY:Building Resilience Workshop
DESCRIPTION:Join us for our Building Resiliance workshop on May 21 at 5:30 p.m. presented by Trauma Matters Delaware. Resilience is critical to building and maintaining a healthy lifestyle\, both physically and mentally. This workshop will review the reasons why self-care is important in the face of traumatic events\, and then the group will discuss how self-care can build resilience. Participants will walk away with several self-care plans that they can fill out and keep for reference. \nSeats are limited to 20! Register now>> https://loom.ly/7U77asM
URL:https://centraldelawarehabitat.org/event/building-resilience-workshop/
LOCATION:CDHFH ReStore\, 2311 S. DuPont Highway\, Dover\, DE\, 19901\, United States
END:VEVENT
END:VCALENDAR