BEGIN:VCALENDAR
VERSION:2.0
PRODID:-//Central Delaware Habitat for Humanity - ECPv6.15.20//NONSGML v1.0//EN
CALSCALE:GREGORIAN
METHOD:PUBLISH
X-ORIGINAL-URL:https://centraldelawarehabitat.org
X-WR-CALDESC:Events for Central Delaware Habitat for Humanity
REFRESH-INTERVAL;VALUE=DURATION:PT1H
X-Robots-Tag:noindex
X-PUBLISHED-TTL:PT1H
BEGIN:VTIMEZONE
TZID:America/New_York
BEGIN:DAYLIGHT
TZOFFSETFROM:-0500
TZOFFSETTO:-0400
TZNAME:EDT
DTSTART:20240310T070000
END:DAYLIGHT
BEGIN:STANDARD
TZOFFSETFROM:-0400
TZOFFSETTO:-0500
TZNAME:EST
DTSTART:20241103T060000
END:STANDARD
BEGIN:DAYLIGHT
TZOFFSETFROM:-0500
TZOFFSETTO:-0400
TZNAME:EDT
DTSTART:20250309T070000
END:DAYLIGHT
BEGIN:STANDARD
TZOFFSETFROM:-0400
TZOFFSETTO:-0500
TZNAME:EST
DTSTART:20251102T060000
END:STANDARD
BEGIN:DAYLIGHT
TZOFFSETFROM:-0500
TZOFFSETTO:-0400
TZNAME:EDT
DTSTART:20260308T070000
END:DAYLIGHT
BEGIN:STANDARD
TZOFFSETFROM:-0400
TZOFFSETTO:-0500
TZNAME:EST
DTSTART:20261101T060000
END:STANDARD
END:VTIMEZONE
BEGIN:VEVENT
DTSTART;TZID=America/New_York:20250606T160000
DTEND;TZID=America/New_York:20250606T190000
DTSTAMP:20260424T214349
CREATED:20250103T161142Z
LAST-MODIFIED:20250527T154809Z
UID:64692-1749225600-1749236400@centraldelawarehabitat.org
SUMMARY:Housing Resource Fair
DESCRIPTION:Ready to start your journey to homeownership? Join us for our Annual Housing Resource Fair! Discover educational opportunities\, connect with community partners\, and explore financial assistance options tailored to help you achieve your dream of owning a home. \n📅 When: June 6\, 4–7 PM\n📍 Where: CDHFH ReStore\, 2311 S. DuPont Hwy\, Dover \n✨ Vendor Opportunities Available!\nDon’t miss the chance to showcase your services. For more information\, contact Maria at 📞 (302) 526-2366 ext. 106. \nSponsorship/Vendor registration: https://www.zeffy.com/ticketing/housing-resource-fair-sponsorship \nSponsored by: \n         
URL:https://centraldelawarehabitat.org/event/housing-resource-fair/
LOCATION:CDHFH ReStore\, 2311 S. DuPont Highway\, Dover\, DE\, 19901\, United States
CATEGORIES:Homeownership Events
END:VEVENT
END:VCALENDAR