BEGIN:VCALENDAR
VERSION:2.0
PRODID:-//Central Delaware Habitat for Humanity - ECPv6.15.20//NONSGML v1.0//EN
CALSCALE:GREGORIAN
METHOD:PUBLISH
X-WR-CALNAME:Central Delaware Habitat for Humanity
X-ORIGINAL-URL:https://centraldelawarehabitat.org
X-WR-CALDESC:Events for Central Delaware Habitat for Humanity
REFRESH-INTERVAL;VALUE=DURATION:PT1H
X-Robots-Tag:noindex
X-PUBLISHED-TTL:PT1H
BEGIN:VTIMEZONE
TZID:America/New_York
BEGIN:DAYLIGHT
TZOFFSETFROM:-0500
TZOFFSETTO:-0400
TZNAME:EDT
DTSTART:20240310T070000
END:DAYLIGHT
BEGIN:STANDARD
TZOFFSETFROM:-0400
TZOFFSETTO:-0500
TZNAME:EST
DTSTART:20241103T060000
END:STANDARD
BEGIN:DAYLIGHT
TZOFFSETFROM:-0500
TZOFFSETTO:-0400
TZNAME:EDT
DTSTART:20250309T070000
END:DAYLIGHT
BEGIN:STANDARD
TZOFFSETFROM:-0400
TZOFFSETTO:-0500
TZNAME:EST
DTSTART:20251102T060000
END:STANDARD
BEGIN:DAYLIGHT
TZOFFSETFROM:-0500
TZOFFSETTO:-0400
TZNAME:EDT
DTSTART:20260308T070000
END:DAYLIGHT
BEGIN:STANDARD
TZOFFSETFROM:-0400
TZOFFSETTO:-0500
TZNAME:EST
DTSTART:20261101T060000
END:STANDARD
END:VTIMEZONE
BEGIN:VEVENT
DTSTART;VALUE=DATE:20251224
DTEND;VALUE=DATE:20251227
DTSTAMP:20260424T193921
CREATED:20250103T160854Z
LAST-MODIFIED:20250103T160918Z
UID:64688-1766534400-1766793599@centraldelawarehabitat.org
SUMMARY:CLOSED: Christmas
DESCRIPTION:The Affiliate office and ReStore will be closed December 24-26 for the Christmas holiday.
URL:https://centraldelawarehabitat.org/event/closed-christmas/
CATEGORIES:Closings
END:VEVENT
BEGIN:VEVENT
DTSTART;VALUE=DATE:20251127
DTEND;VALUE=DATE:20251129
DTSTAMP:20260424T193921
CREATED:20250103T160801Z
LAST-MODIFIED:20250103T160926Z
UID:64686-1764201600-1764374399@centraldelawarehabitat.org
SUMMARY:Affiliate CLOSED: Thanksgiving
DESCRIPTION:The affiliate office will be closed Nov. 27 and 28 for the Thanksgiving holiday.
URL:https://centraldelawarehabitat.org/event/affiliate-closed-thanksgiving/
CATEGORIES:Closings
END:VEVENT
BEGIN:VEVENT
DTSTART;VALUE=DATE:20251127
DTEND;VALUE=DATE:20251128
DTSTAMP:20260424T193921
CREATED:20250103T160707Z
LAST-MODIFIED:20250103T160934Z
UID:64684-1764201600-1764287999@centraldelawarehabitat.org
SUMMARY:ReStore CLOSED: Thanksgiving
DESCRIPTION:The ReStore will be closed Nov. 27 in observance of Thanksgiving and will reopen at 10 a.m. on Nov. 28
URL:https://centraldelawarehabitat.org/event/restore-closed-thanksgiving/
CATEGORIES:Closings
END:VEVENT
BEGIN:VEVENT
DTSTART;VALUE=DATE:20250901
DTEND;VALUE=DATE:20250902
DTSTAMP:20260424T193921
CREATED:20250103T160602Z
LAST-MODIFIED:20250103T160939Z
UID:64682-1756684800-1756771199@centraldelawarehabitat.org
SUMMARY:CLOSED: Labor Day
DESCRIPTION:The affiliate office and ReStore will be closed Sept. 1 in observance of Labor Day
URL:https://centraldelawarehabitat.org/event/closed-labor-day/
CATEGORIES:Closings
END:VEVENT
BEGIN:VEVENT
DTSTART;VALUE=DATE:20250704
DTEND;VALUE=DATE:20250705
DTSTAMP:20260424T193921
CREATED:20250103T160508Z
LAST-MODIFIED:20250103T160944Z
UID:64680-1751587200-1751673599@centraldelawarehabitat.org
SUMMARY:CLOSED: Independence Day
DESCRIPTION:The affiliate office and ReStore will be closed on July 4 in observance of Independence Day
URL:https://centraldelawarehabitat.org/event/closed-independence-day/
CATEGORIES:Closings
END:VEVENT
BEGIN:VEVENT
DTSTART;VALUE=DATE:20250619
DTEND;VALUE=DATE:20250620
DTSTAMP:20260424T193921
CREATED:20250103T160329Z
LAST-MODIFIED:20250103T160329Z
UID:64678-1750291200-1750377599@centraldelawarehabitat.org
SUMMARY:CLOSED: Juneteenth
DESCRIPTION:The affiliate office and ReStore will be closed June 19th in observance of Juneteenth
URL:https://centraldelawarehabitat.org/event/closed-juneteenth/
CATEGORIES:Closings
END:VEVENT
BEGIN:VEVENT
DTSTART;VALUE=DATE:20250526
DTEND;VALUE=DATE:20250527
DTSTAMP:20260424T193921
CREATED:20250103T160000Z
LAST-MODIFIED:20250103T160338Z
UID:64676-1748217600-1748303999@centraldelawarehabitat.org
SUMMARY:CLOSED: Memorial Day
DESCRIPTION:The affiliate office and ReStore will be closed May 26th for Memorial Day
URL:https://centraldelawarehabitat.org/event/closed-memorial-day/
CATEGORIES:Closings
END:VEVENT
BEGIN:VEVENT
DTSTART;VALUE=DATE:20250418
DTEND;VALUE=DATE:20250421
DTSTAMP:20260424T193921
CREATED:20250103T155852Z
LAST-MODIFIED:20250103T155852Z
UID:64674-1744934400-1745193599@centraldelawarehabitat.org
SUMMARY:CLOSED: Good Friday
DESCRIPTION:The Affiliate office and ReStore will be closed Friday\, April 18th and 19th in observance of the Easter holidays.
URL:https://centraldelawarehabitat.org/event/closed-good-friday/
CATEGORIES:Closings
END:VEVENT
BEGIN:VEVENT
DTSTART;VALUE=DATE:20250120
DTEND;VALUE=DATE:20250121
DTSTAMP:20260424T193921
CREATED:20250103T155737Z
LAST-MODIFIED:20250103T155737Z
UID:64672-1737331200-1737417599@centraldelawarehabitat.org
SUMMARY:CLOSED: Martin Luther King\, Jr. Day
DESCRIPTION:The Affiliate office and ReStore will be closed on January 20th in observance of Martin Luther King\, Jr. Day.
URL:https://centraldelawarehabitat.org/event/closed-martin-luther-king-jr-day/
CATEGORIES:Closings
END:VEVENT
END:VCALENDAR