BEGIN:VCALENDAR
VERSION:2.0
PRODID:-//Central Delaware Habitat for Humanity - ECPv6.15.20//NONSGML v1.0//EN
CALSCALE:GREGORIAN
METHOD:PUBLISH
X-WR-CALNAME:Central Delaware Habitat for Humanity
X-ORIGINAL-URL:https://centraldelawarehabitat.org
X-WR-CALDESC:Events for Central Delaware Habitat for Humanity
REFRESH-INTERVAL;VALUE=DURATION:PT1H
X-Robots-Tag:noindex
X-PUBLISHED-TTL:PT1H
BEGIN:VTIMEZONE
TZID:America/New_York
BEGIN:DAYLIGHT
TZOFFSETFROM:-0500
TZOFFSETTO:-0400
TZNAME:EDT
DTSTART:20240310T070000
END:DAYLIGHT
BEGIN:STANDARD
TZOFFSETFROM:-0400
TZOFFSETTO:-0500
TZNAME:EST
DTSTART:20241103T060000
END:STANDARD
BEGIN:DAYLIGHT
TZOFFSETFROM:-0500
TZOFFSETTO:-0400
TZNAME:EDT
DTSTART:20250309T070000
END:DAYLIGHT
BEGIN:STANDARD
TZOFFSETFROM:-0400
TZOFFSETTO:-0500
TZNAME:EST
DTSTART:20251102T060000
END:STANDARD
BEGIN:DAYLIGHT
TZOFFSETFROM:-0500
TZOFFSETTO:-0400
TZNAME:EDT
DTSTART:20260308T070000
END:DAYLIGHT
BEGIN:STANDARD
TZOFFSETFROM:-0400
TZOFFSETTO:-0500
TZNAME:EST
DTSTART:20261101T060000
END:STANDARD
END:VTIMEZONE
BEGIN:VEVENT
DTSTART;TZID=America/New_York:20250626T160000
DTEND;TZID=America/New_York:20250626T210000
DTSTAMP:20260425T100918
CREATED:20250626T145331Z
LAST-MODIFIED:20250626T145522Z
UID:64969-1750953600-1750971600@centraldelawarehabitat.org
SUMMARY:Dine to Donate: Texas Roadhouse Camden
DESCRIPTION:SAVE THIS FLYER! \n\n\n\nJoin us on June 26th from 4-9 p.m. for our Dine to Donate dinner at Texas Roadhouse in Camden! There are 2 ways you can support our fundraiser:\n\n\n\n Present the flyer below (printed or digital!) during your dine-in dinner\n Order TO Go and present the flyer at pickup\n\n\n\nWe will be on hand during the fundraiser to answer any questions about CDHFH! We can’t wait to see you there.
URL:https://centraldelawarehabitat.org/event/dine-to-donate-texas-roadhouse-camden/
LOCATION:Texas RoadHouse Camden\, 4568 S Dupont Hwy\, Camden\, DE\, 19934\, United States
CATEGORIES:Fundraising Events,ReStore Events
END:VEVENT
END:VCALENDAR