BEGIN:VCALENDAR
VERSION:2.0
PRODID:-//Central Delaware Habitat for Humanity - ECPv6.15.20//NONSGML v1.0//EN
CALSCALE:GREGORIAN
METHOD:PUBLISH
X-ORIGINAL-URL:https://centraldelawarehabitat.org
X-WR-CALDESC:Events for Central Delaware Habitat for Humanity
REFRESH-INTERVAL;VALUE=DURATION:PT1H
X-Robots-Tag:noindex
X-PUBLISHED-TTL:PT1H
BEGIN:VTIMEZONE
TZID:America/New_York
BEGIN:DAYLIGHT
TZOFFSETFROM:-0500
TZOFFSETTO:-0400
TZNAME:EDT
DTSTART:20230312T070000
END:DAYLIGHT
BEGIN:STANDARD
TZOFFSETFROM:-0400
TZOFFSETTO:-0500
TZNAME:EST
DTSTART:20231105T060000
END:STANDARD
BEGIN:DAYLIGHT
TZOFFSETFROM:-0500
TZOFFSETTO:-0400
TZNAME:EDT
DTSTART:20240310T070000
END:DAYLIGHT
BEGIN:STANDARD
TZOFFSETFROM:-0400
TZOFFSETTO:-0500
TZNAME:EST
DTSTART:20241103T060000
END:STANDARD
BEGIN:DAYLIGHT
TZOFFSETFROM:-0500
TZOFFSETTO:-0400
TZNAME:EDT
DTSTART:20250309T070000
END:DAYLIGHT
BEGIN:STANDARD
TZOFFSETFROM:-0400
TZOFFSETTO:-0500
TZNAME:EST
DTSTART:20251102T060000
END:STANDARD
BEGIN:DAYLIGHT
TZOFFSETFROM:-0500
TZOFFSETTO:-0400
TZNAME:EDT
DTSTART:20260308T070000
END:DAYLIGHT
BEGIN:STANDARD
TZOFFSETFROM:-0400
TZOFFSETTO:-0500
TZNAME:EST
DTSTART:20261101T060000
END:STANDARD
BEGIN:DAYLIGHT
TZOFFSETFROM:-0500
TZOFFSETTO:-0400
TZNAME:EDT
DTSTART:20270314T070000
END:DAYLIGHT
BEGIN:STANDARD
TZOFFSETFROM:-0400
TZOFFSETTO:-0500
TZNAME:EST
DTSTART:20271107T060000
END:STANDARD
END:VTIMEZONE
BEGIN:VEVENT
DTSTART;TZID=America/New_York:20260411T080000
DTEND;TZID=America/New_York:20260411T120000
DTSTAMP:20260424T162559
CREATED:20260116T142815Z
LAST-MODIFIED:20260319T143638Z
UID:65110-1775894400-1775908800@centraldelawarehabitat.org
SUMMARY:2026 Builder’s Dash
DESCRIPTION:Run. Walk. Build homes. \nJoin us for our first fundraiser of 2026: the Builder’s Dash 5K Run/Walk! Proceeds benefit CDHFH programs.
URL:https://centraldelawarehabitat.org/event/2026-builders-dash/
LOCATION:Rail Haus\, 92 N. West St\, Dover\, DE\, 19904\, United States
CATEGORIES:Fundraising Events,Volunteer Events
END:VEVENT
BEGIN:VEVENT
DTSTART;TZID=America/New_York:20260305T180000
DTEND;TZID=America/New_York:20260306T180000
DTSTAMP:20260424T162559
CREATED:20260225T160935Z
LAST-MODIFIED:20260225T161018Z
UID:65146-1772733600-1772820000@centraldelawarehabitat.org
SUMMARY:DoMore24
DESCRIPTION:https://www.domore24delaware.org/fundraisers/central-delaware-habitat-for-humanity
URL:https://centraldelawarehabitat.org/event/domore24/
CATEGORIES:Fundraising Events
END:VEVENT
BEGIN:VEVENT
DTSTART;TZID=America/New_York:20251108T170000
DTEND;TZID=America/New_York:20251108T210000
DTSTAMP:20260424T162559
CREATED:20241219T141005Z
LAST-MODIFIED:20241219T144227Z
UID:64654-1762621200-1762635600@centraldelawarehabitat.org
SUMMARY:Eighth Annual Chair-ity Ball
DESCRIPTION:
URL:https://centraldelawarehabitat.org/event/eighth-annual-chair-ity-ball/
CATEGORIES:Fundraising Events
END:VEVENT
BEGIN:VEVENT
DTSTART;TZID=America/New_York:20250907T120000
DTEND;TZID=America/New_York:20250907T160000
DTSTAMP:20260424T162559
CREATED:20250313T171808Z
LAST-MODIFIED:20250623T164105Z
UID:64778-1757246400-1757260800@centraldelawarehabitat.org
SUMMARY:Family Fun Day @ Big Oyster
DESCRIPTION:Bring the whole family to a day of fun\, hosted by Keller Williams Modern Property Group! Explore a vibrant vendor market featuring local artisans\, small businesses\, and nonprofits. Enjoy live music\, a cornhole tournament\, and engaging family-friendly activities. \nThank you to our sponsors! \n \n  \n \n 
URL:https://centraldelawarehabitat.org/event/family-fun-day-big-oyster/
LOCATION:Big Oyster Milford\, 6152 S Rehoboth Blvd\, Milford\, DE\, 19963
CATEGORIES:Fundraising Events
END:VEVENT
BEGIN:VEVENT
DTSTART;TZID=America/New_York:20250822T090000
DTEND;TZID=America/New_York:20250822T160000
DTSTAMP:20260424T162559
CREATED:20250623T140918Z
LAST-MODIFIED:20250807T151024Z
UID:64930-1755853200-1755878400@centraldelawarehabitat.org
SUMMARY:Golf for Good Tournament
DESCRIPTION:⛳ Join us for the Golf for Good Tournament presented by Bally’s Dover! 🏌️‍♂️ \nTickets are on sale now to support Central Delaware Habitat for Humanity while enjoying a day on the greens! \n📅 Date: August 22\, 2025\n📍 Location: Jonathan’s Landing Golf Course\n1309 Ponderosa Dr.\, Magnolia\, DE 19962 \n💵 Registration:\n$600 per foursome\n$175 per individual\n(Includes dinner\, swag bag\, and more!) \nRegistration Deadline: August 20\, 2025 \nRegister Here\n\n\nThank you to our sponsors:\n\n\n       
URL:https://centraldelawarehabitat.org/event/golf-for-good-tournament/
LOCATION:Jonathan’s Landing\, 1309 Ponderosa Dr\, Magnolia\, DE\, 19962\, United States
CATEGORIES:Fundraising Events,Volunteer Events
ATTACH;FMTTYPE=image/jpeg:https://centraldelawarehabitat.org/wp-content/uploads/2025/06/IMG_5823-scaled.jpg
END:VEVENT
BEGIN:VEVENT
DTSTART;TZID=America/New_York:20250819T160000
DTEND;TZID=America/New_York:20250819T200000
DTSTAMP:20260424T162559
CREATED:20250626T145651Z
LAST-MODIFIED:20250626T145912Z
UID:64975-1755619200-1755633600@centraldelawarehabitat.org
SUMMARY:Dine to Donate: Chipotle Camden
DESCRIPTION:🎉 Save this flyer and Do Good with Chipotle 🎉 \nJoin us on August 19 from 4-8 p.m. at Chipotle in Camden for our Dine and Donate fundraiser! There are 2 ways to support CDHFH: \n📃 Present the flyer when ordering in-store\n📲 Order for pickup through the Chipotle app and use code PP7BC6T \nWe can’t wait to see you then!
URL:https://centraldelawarehabitat.org/event/dine-to-donate-chipotle-camden/
LOCATION:Chipotle Camden\, 30 King Blvd\, Camden\, DE\, 19934\, United States
CATEGORIES:Fundraising Events,ReStore Events
END:VEVENT
BEGIN:VEVENT
DTSTART;TZID=America/New_York:20250708T170000
DTEND;TZID=America/New_York:20250708T210000
DTSTAMP:20260424T162559
CREATED:20250626T152541Z
LAST-MODIFIED:20250626T153021Z
UID:64980-1751994000-1752008400@centraldelawarehabitat.org
SUMMARY:Dine to Donate and Guest Bartending: McGlynn’s Dover
DESCRIPTION:Join us July 8 from 5-9 p.m. for our Dine to Donate and Guest Bartending event at McGlynn’s in Dover! \nCDHFH will receive: \n10% of the proceeds from the bar during the event \n20% of proceeds with physical flyer
URL:https://centraldelawarehabitat.org/event/dine-to-donate-and-guest-bartending-mcglynns-dover/
LOCATION:McGlynn’s Dover\, 800 N. State St.\, Dover\, DE\, 19901\, United States
CATEGORIES:Fundraising Events,ReStore Events
END:VEVENT
BEGIN:VEVENT
DTSTART;TZID=America/New_York:20250626T160000
DTEND;TZID=America/New_York:20250626T210000
DTSTAMP:20260424T162559
CREATED:20250626T145331Z
LAST-MODIFIED:20250626T145522Z
UID:64969-1750953600-1750971600@centraldelawarehabitat.org
SUMMARY:Dine to Donate: Texas Roadhouse Camden
DESCRIPTION:SAVE THIS FLYER! \n\n\n\nJoin us on June 26th from 4-9 p.m. for our Dine to Donate dinner at Texas Roadhouse in Camden! There are 2 ways you can support our fundraiser:\n\n\n\n Present the flyer below (printed or digital!) during your dine-in dinner\n Order TO Go and present the flyer at pickup\n\n\n\nWe will be on hand during the fundraiser to answer any questions about CDHFH! We can’t wait to see you there.
URL:https://centraldelawarehabitat.org/event/dine-to-donate-texas-roadhouse-camden/
LOCATION:Texas RoadHouse Camden\, 4568 S Dupont Hwy\, Camden\, DE\, 19934\, United States
CATEGORIES:Fundraising Events,ReStore Events
END:VEVENT
BEGIN:VEVENT
DTSTART;TZID=America/New_York:20250522T170000
DTEND;TZID=America/New_York:20250522T210000
DTSTAMP:20260424T162559
CREATED:20241218T163238Z
LAST-MODIFIED:20250313T172221Z
UID:64652-1747933200-1747947600@centraldelawarehabitat.org
SUMMARY:Gals that Give
DESCRIPTION:Join us for an elegant evening with Gals That Give\, featuring a pick-a-prize auction\, cash bar\, 50/50 raffle\, and a delicious full-course dinner. Tickets are $45 per person or $60 per person for dinner with a bottle of wine. Ticket sales close on May 15\, 2025. \nAuction Donations: Contact Heather Kline at (302) 526-2366 ext. 101 to contribute an item.
URL:https://centraldelawarehabitat.org/event/gals-that-give/
CATEGORIES:Fundraising Events
END:VEVENT
BEGIN:VEVENT
DTSTART;TZID=America/New_York:20250419T080000
DTEND;TZID=America/New_York:20250419T130000
DTSTAMP:20260424T162559
CREATED:20241218T163208Z
LAST-MODIFIED:20250415T162346Z
UID:64650-1745049600-1745067600@centraldelawarehabitat.org
SUMMARY:Builder’s Dash 5K Run/Walk
DESCRIPTION:Lace up your sneakers for the Builder’s Dash 5K Run/Walk! Participants will embark on a unique course winding through downtown Dover\, showcasing homes built by CDHFH. Registration is $30 in advance and $35 on race day. Included with registration are an event t-shirt\, post-race refreshments courtesy of Rail Haus\, and music by TKO Productions. \n  \nThank you to our sponsors: \n \n       \n        \n         \n          \n           
URL:https://centraldelawarehabitat.org/event/builders-dash-5k-run-walk/
LOCATION:Rail Haus\, 92 N. West St\, Dover\, DE\, 19904\, United States
CATEGORIES:Fundraising Events
END:VEVENT
BEGIN:VEVENT
DTSTART;TZID=America/New_York:20250306T180000
DTEND;TZID=America/New_York:20250307T180000
DTSTAMP:20260424T162559
CREATED:20241218T163135Z
LAST-MODIFIED:20241219T144203Z
UID:64648-1741284000-1741370400@centraldelawarehabitat.org
SUMMARY:Do More 24
DESCRIPTION:
URL:https://centraldelawarehabitat.org/event/do-more-24/
CATEGORIES:Fundraising Events
END:VEVENT
BEGIN:VEVENT
DTSTART;TZID=America/New_York:20241109T180000
DTEND;TZID=America/New_York:20241109T220000
DTSTAMP:20260424T162559
CREATED:20240725T131452Z
LAST-MODIFIED:20240813T185451Z
UID:64482-1731175200-1731189600@centraldelawarehabitat.org
SUMMARY:Seventh Annual Chair-ity Ball
DESCRIPTION:Join us for the Seventh Annual Chair-ity Ball\, our premier gala event\, featuring Mike Dutra and the Strictly SInatra Band\, dedicated to raising critical funding for Central Delaware Habitat for Humanity’s homeownership and neighborhood revitalization programs. Dress for an evening with the Rat Pack and enjoy casino games\, silent and live auctions and a 50/50 raffle. \nTo sponsor the Chair-ity Ball\, please call Tim Bailey at (302) 526-2366 ext 102. \nTo donate a silent auction item\, please call Heather Kline at (302) 526-2366 ext. 101.
URL:https://centraldelawarehabitat.org/event/seventh-annual-chair-ity-ball/
LOCATION:Bally’s Dover\, 1131 N Dupont Hwy\, Dover\, DE\, 19901\, United States
CATEGORIES:Fundraising Events
END:VEVENT
BEGIN:VEVENT
DTSTART;TZID=America/New_York:20241010T180000
DTEND;TZID=America/New_York:20241010T200000
DTSTAMP:20260424T162559
CREATED:20240924T172545Z
LAST-MODIFIED:20240924T172832Z
UID:64576-1728583200-1728590400@centraldelawarehabitat.org
SUMMARY:Person of the Year Guest Bartender Night
DESCRIPTION:Support your favorite Person of the Year nominee as they guest bartend for your tips! This is a 21 and over event.
URL:https://centraldelawarehabitat.org/event/person-of-the-year-guest-bartender-night/
LOCATION:Big Oyster Milford\, 6152 S Rehoboth Blvd\, Milford\, DE\, 19963
CATEGORIES:Fundraising Events
END:VEVENT
END:VCALENDAR