BEGIN:VCALENDAR
VERSION:2.0
PRODID:-//Central Delaware Habitat for Humanity - ECPv6.15.20//NONSGML v1.0//EN
CALSCALE:GREGORIAN
METHOD:PUBLISH
X-WR-CALNAME:Central Delaware Habitat for Humanity
X-ORIGINAL-URL:https://centraldelawarehabitat.org
X-WR-CALDESC:Events for Central Delaware Habitat for Humanity
REFRESH-INTERVAL;VALUE=DURATION:PT1H
X-Robots-Tag:noindex
X-PUBLISHED-TTL:PT1H
BEGIN:VTIMEZONE
TZID:America/New_York
BEGIN:DAYLIGHT
TZOFFSETFROM:-0500
TZOFFSETTO:-0400
TZNAME:EDT
DTSTART:20230312T070000
END:DAYLIGHT
BEGIN:STANDARD
TZOFFSETFROM:-0400
TZOFFSETTO:-0500
TZNAME:EST
DTSTART:20231105T060000
END:STANDARD
BEGIN:DAYLIGHT
TZOFFSETFROM:-0500
TZOFFSETTO:-0400
TZNAME:EDT
DTSTART:20240310T070000
END:DAYLIGHT
BEGIN:STANDARD
TZOFFSETFROM:-0400
TZOFFSETTO:-0500
TZNAME:EST
DTSTART:20241103T060000
END:STANDARD
BEGIN:DAYLIGHT
TZOFFSETFROM:-0500
TZOFFSETTO:-0400
TZNAME:EDT
DTSTART:20250309T070000
END:DAYLIGHT
BEGIN:STANDARD
TZOFFSETFROM:-0400
TZOFFSETTO:-0500
TZNAME:EST
DTSTART:20251102T060000
END:STANDARD
BEGIN:DAYLIGHT
TZOFFSETFROM:-0500
TZOFFSETTO:-0400
TZNAME:EDT
DTSTART:20260308T070000
END:DAYLIGHT
BEGIN:STANDARD
TZOFFSETFROM:-0400
TZOFFSETTO:-0500
TZNAME:EST
DTSTART:20261101T060000
END:STANDARD
BEGIN:DAYLIGHT
TZOFFSETFROM:-0500
TZOFFSETTO:-0400
TZNAME:EDT
DTSTART:20270314T070000
END:DAYLIGHT
BEGIN:STANDARD
TZOFFSETFROM:-0400
TZOFFSETTO:-0500
TZNAME:EST
DTSTART:20271107T060000
END:STANDARD
END:VTIMEZONE
BEGIN:VEVENT
DTSTART;TZID=America/New_York:20260411T080000
DTEND;TZID=America/New_York:20260411T120000
DTSTAMP:20260424T194119
CREATED:20260116T142815Z
LAST-MODIFIED:20260319T143638Z
UID:65110-1775894400-1775908800@centraldelawarehabitat.org
SUMMARY:2026 Builder’s Dash
DESCRIPTION:Run. Walk. Build homes. \nJoin us for our first fundraiser of 2026: the Builder’s Dash 5K Run/Walk! Proceeds benefit CDHFH programs.
URL:https://centraldelawarehabitat.org/event/2026-builders-dash/
LOCATION:Rail Haus\, 92 N. West St\, Dover\, DE\, 19904\, United States
CATEGORIES:Fundraising Events,Volunteer Events
END:VEVENT
BEGIN:VEVENT
DTSTART;TZID=America/New_York:20260219T080000
DTEND;TZID=America/New_York:20260219T100000
DTSTAMP:20260424T194119
CREATED:20260112T141909Z
LAST-MODIFIED:20260112T144016Z
UID:65105-1771488000-1771495200@centraldelawarehabitat.org
SUMMARY:Looking Back Building Forward Breakfast
DESCRIPTION:Join us for our annual Looking Back Building Forward breakfast as we honor the exceptional achievements and contributions individuals and organizations made toward CDHFH in 2025. Then\, there will be an opportunity to look forward at 2026 and beyond as CDHFH continues to grow and evolve. Keriann Otaño with Delaware Opera will also be performing live. \nAdmission is free and breakfast is complimentary. Registration is required.
URL:https://centraldelawarehabitat.org/event/looking-back-building-forward-breakfast-2/
LOCATION:Wyoming Methodist Church
CATEGORIES:Volunteer Events
END:VEVENT
BEGIN:VEVENT
DTSTART;TZID=America/New_York:20250927T090000
DTEND;TZID=America/New_York:20250927T130000
DTSTAMP:20260424T194119
CREATED:20250807T151334Z
LAST-MODIFIED:20250819T185905Z
UID:65010-1758963600-1758978000@centraldelawarehabitat.org
SUMMARY:Fall Rock the Block
DESCRIPTION:Join us on September 27 for our Fall Rock the Block in downtown Dover! \nParticipate in our community cleanup and beautification projects. Qualifying streets include N. Queen\, N. New\, N. Kirkwood and N. Governors between Division and Loockerman. \nMore information to come soon!
URL:https://centraldelawarehabitat.org/event/fall-rock-the-block/
LOCATION:Solid Rock Baptist Church\, 113 N West St\, Dover\, DE\, 19904\, United States
CATEGORIES:NR Events,Volunteer Events
END:VEVENT
BEGIN:VEVENT
DTSTART;VALUE=DATE:20250922
DTEND;VALUE=DATE:20250927
DTSTAMP:20260424T194119
CREATED:20250807T151412Z
LAST-MODIFIED:20250807T151416Z
UID:65012-1758499200-1758931199@centraldelawarehabitat.org
SUMMARY:Women Build Week
DESCRIPTION:
URL:https://centraldelawarehabitat.org/event/women-build-week-2/
LOCATION:DE
CATEGORIES:Volunteer Events
END:VEVENT
BEGIN:VEVENT
DTSTART;TZID=America/New_York:20250822T090000
DTEND;TZID=America/New_York:20250822T160000
DTSTAMP:20260424T194119
CREATED:20250623T140918Z
LAST-MODIFIED:20250807T151024Z
UID:64930-1755853200-1755878400@centraldelawarehabitat.org
SUMMARY:Golf for Good Tournament
DESCRIPTION:⛳ Join us for the Golf for Good Tournament presented by Bally’s Dover! 🏌️‍♂️ \nTickets are on sale now to support Central Delaware Habitat for Humanity while enjoying a day on the greens! \n📅 Date: August 22\, 2025\n📍 Location: Jonathan’s Landing Golf Course\n1309 Ponderosa Dr.\, Magnolia\, DE 19962 \n💵 Registration:\n$600 per foursome\n$175 per individual\n(Includes dinner\, swag bag\, and more!) \nRegistration Deadline: August 20\, 2025 \nRegister Here\n\n\nThank you to our sponsors:\n\n\n       
URL:https://centraldelawarehabitat.org/event/golf-for-good-tournament/
LOCATION:Jonathan’s Landing\, 1309 Ponderosa Dr\, Magnolia\, DE\, 19962\, United States
CATEGORIES:Fundraising Events,Volunteer Events
ATTACH;FMTTYPE=image/jpeg:https://centraldelawarehabitat.org/wp-content/uploads/2025/06/IMG_5823-scaled.jpg
END:VEVENT
BEGIN:VEVENT
DTSTART;TZID=America/New_York:20250220T080000
DTEND;TZID=America/New_York:20250220T110000
DTSTAMP:20260424T194119
CREATED:20241218T163045Z
LAST-MODIFIED:20241231T170256Z
UID:64645-1740038400-1740049200@centraldelawarehabitat.org
SUMMARY:Looking Back Building Forward Breakfast
DESCRIPTION:You’re invited! \nThe Looking Back Building Forward Awards Breakfast brings together esteemed professionals\, industry leaders\, partners and volunteers to celebrate their support of CDHFH throughout 2024. Attendees are treated to an inspiring keynote speech from a current homeowner partner\, esteemed recognition of sponsors\, community partners and volunteers\, and invaluable networking opportunities. \nThis is a free event. Space is limited—registration required.
URL:https://centraldelawarehabitat.org/event/looking-back-building-forward-breakfast/
LOCATION:Wyoming Methodist Church
CATEGORIES:Volunteer Events
END:VEVENT
BEGIN:VEVENT
DTSTART;TZID=America/New_York:20240921T080000
DTEND;TZID=America/New_York:20240921T120000
DTSTAMP:20260424T194119
CREATED:20240731T175525Z
LAST-MODIFIED:20240731T175525Z
UID:64530-1726905600-1726920000@centraldelawarehabitat.org
SUMMARY:Rock the Block
DESCRIPTION:
URL:https://centraldelawarehabitat.org/event/rock-the-block/
LOCATION:DE
CATEGORIES:Volunteer Events
END:VEVENT
BEGIN:VEVENT
DTSTART;TZID=America/New_York:20240916T080000
DTEND;TZID=America/New_York:20240920T170000
DTSTAMP:20260424T194119
CREATED:20240731T175456Z
LAST-MODIFIED:20240731T175456Z
UID:64527-1726473600-1726851600@centraldelawarehabitat.org
SUMMARY:Women Build Week
DESCRIPTION:
URL:https://centraldelawarehabitat.org/event/women-build-week/
LOCATION:DE
CATEGORIES:Volunteer Events
END:VEVENT
END:VCALENDAR